OziExplorer Map Data File Version 2.2
Birstonas.top50_utm34-35.jpg
D:\Balionai\J. Valūno taurė Birštonas 2007\Žemėlapis pagr\birstonas.top50_utm34-35.jpg
1 ,Map Code,
WGS 84,WGS 84, 0.0000, 0.0000,WGS 84
Reserved 1
Reserved 2
Magnetic Variation,,,E
Map Projection,(UTM) Universal Transverse Mercator,PolyCal,No,AutoCalOnly,No,BSBUseWPX,No
Point01,xy, 113, 274,in, deg, , ,N, , ,W, grid, 34, 668000, 6076000,N
Point02,xy, 5142, 4271,in, deg, , ,N, , ,W, grid, 34, 690000, 6060000,N
Point03,xy, 7015, 8989,in, deg, , ,N, , ,W, grid, 35, 310000, 6040000,N
Point04,xy,11627,11865,in, deg, , ,N, , ,W, grid, 35, 329000, 6027000,N
Point05,xy, 91,11855,in, deg, , ,N, , ,W, grid, 34, 670000, 6027000,N
Point06,xy, 5978, 6670,in, deg, , ,N, , ,W, grid, 35, 306000, 6050000,N
Point07,xy,11842, 274,in, deg, , ,N, , ,W, grid, 35, 332000, 6076000,N
Point08,xy, 5041, 6631,in, deg, , ,N, , ,W, grid, 34, 690000, 6050000,N
Point09,xy, 6913, 6630,in, deg, , ,N, , ,W, grid, 35, 310000, 6050000,N
Point10,xy, , ,in, deg, , ,N, , ,W, grid, , , ,N
Point11,xy, , ,in, deg, , ,N, , ,W, grid, , , ,N
Point12,xy, , ,in, deg, , ,N, , ,W, grid, , , ,N
Point13,xy, , ,in, deg, , ,N, , ,W, grid, , , ,N
Point14,xy, , ,in, deg, , ,N, , ,W, grid, , , ,N
Point15,xy, , ,in, deg, , ,N, , ,W, grid, , , ,N
Point16,xy, , ,in, deg, , ,N, , ,W, grid, , , ,N
Point17,xy, , ,in, deg, , ,N, , ,W, grid, , , ,N
Point18,xy, , ,in, deg, , ,N, , ,W, grid, , , ,N
Point19,xy, , ,in, deg, , ,N, , ,W, grid, , , ,N
Point20,xy, , ,in, deg, , ,N, , ,W, grid, , , ,N
Point21,xy, , ,in, deg, , ,N, , ,W, grid, , , ,N
Point22,xy, , ,in, deg, , ,N, , ,W, grid, , , ,N
Point23,xy, , ,in, deg, , ,N, , ,W, grid, , , ,N
Point24,xy, , ,in, deg, , ,N, , ,W, grid, , , ,N
Point25,xy, , ,in, deg, , ,N, , ,W, grid, , , ,N
Point26,xy, , ,in, deg, , ,N, , ,W, grid, , , ,N
Point27,xy, , ,in, deg, , ,N, , ,W, grid, , , ,N
Point28,xy, , ,in, deg, , ,N, , ,W, grid, , , ,N
Point29,xy, , ,in, deg, , ,N, , ,W, grid, , , ,N
Point30,xy, , ,in, deg, , ,N, , ,W, grid, , , ,N
Projection Setup,,,,,,,,,,
Map Feature = MF ; Map Comment = MC These follow if they exist
Track File = TF These follow if they exist
Moving Map Parameters = MM? These follow if they exist
MM0,Yes
MMPNUM,4
MMPXY,1,0,0
MMPXY,2,11954,0
MMPXY,3,11954,11957
MMPXY,4,0,11957
MMPLL,1, 23.606191, 54.813413
MMPLL,2, 24.393633, 54.813351
MMPLL,3, 24.389286, 54.358533
MMPLL,4, 23.610576, 54.358485
MM1B,4.236786
MOP,Map Open Position,0,0
IWH,Map Image Width/Height,11954,11957
